Workbook

Sheet Pricing
D2: Price List, ZAR | E2: Price List, KES | F2: MSRP Prices, 1Y, KES | G2: MSRP Prices, 1Y, USD | H2: Special Discount | I2: Recommended End User Price, 1 Month, KES, VAT excl | J2: Recommended End User Price, 1 Month, USD, VAT excl | L2: BenOlives Share | M2: KL Share | N2: Prices Due to KL, VAT excluded, (Ksh) | O2: Prices Due to KL, VAT ecluded, (USD)
B3: Exchange Rate, 1 ZAR = | C3: 7.49 | L3: 0.35 | M3: 0.65
B4: Exchange Rate, 1 USD = | C4: 128.97
B5: Discount | F5: 0.2
B6: Kaspersky Safe Kids | D6: 317.39 | E6: =ROUND($D6*$C$3,2) -> 2377.25 | F6: =ROUND(E6*(1-$F$5),2) -> 1901.8 | G6: =$F6/$C$4 -> 14.746065 | I6: =F6*(1-$H6)/10 -> 190.18 | J6: =G6*(1-$H6)/10 -> 1.4746065 | N6: =ROUND(I6*$M$3,2) -> 123.62 | O6: =N6/$C$4 -> 0.95851748
B7: Kaspersky Password Manager | D7: 310.25 | E7: =ROUND($D7*$C$3,2) -> 2323.77 | F7: =ROUND(E7*(1-$F$5),2) -> 1859.02 | G7: =$F7/$C$4 -> 14.41436 | I7: =F7*(1-$H7)/10 -> 185.902 | J7: =G7*(1-$H7)/10 -> 1.441436 | N7: =ROUND(I7*$M$3,2) -> 120.84 | O7: =N7/$C$4 -> 0.93696208
B8: Kaspersky Secure Conection, 5 dev | D8: 578.26 | E8: =ROUND($D8*$C$3,2) -> 4331.17 | F8: =ROUND(E8*(1-$F$5),2) -> 3464.94 | G8: =$F8/$C$4 -> 26.866248 | I8: =F8*(1-$H8)/10 -> 346.494 | J8: =G8*(1-$H8)/10 -> 2.6866248 | N8: =ROUND(I8*$M$3,2) -> 225.22 | O8: =N8/$C$4 -> 1.7462976
B9: Kaspersky Standard | C9: Lic for 1 Device | D9: 365.21 | E9: =ROUND($D9*$C$3,2) -> 2735.42 | F9: =ROUND(E9*(1-$F$5),2) -> 2188.34 | G9: =$F9/$C$4 -> 16.967822 | I9: =F9*(1-$H9)/10 -> 218.834 | J9: =G9*(1-$H9)/10 -> 1.6967822 | N9: =ROUND(I9*$M$3,2) -> 142.24 | O9: =N9/$C$4 -> 1.1028921
C10: Lic for 3 Devices | D10: 417.38 | E10: =ROUND($D10*$C$3,2) -> 3126.18 | F10: =ROUND(E10*(1-$F$5),2) -> 2500.94 | G10: =$F10/$C$4 -> 19.391641 | I10: =F10*(1-$H10)/10 -> 250.094 | J10: =G10*(1-$H10)/10 -> 1.9391641 | N10: =ROUND(I10*$M$3,2) -> 162.56 | O10: =N10/$C$4 -> 1.2604482
C11: Lic for 5 Devices | D11: 469.56 | E11: =ROUND($D11*$C$3,2) -> 3517 | F11: =ROUND(E11*(1-$F$5),2) -> 2813.6 | G11: =$F11/$C$4 -> 21.815926 | I11: =F11*(1-$H11)/10 -> 281.36 | J11: =G11*(1-$H11)/10 -> 2.1815926 | N11: =ROUND(I11*$M$3,2) -> 182.88 | O11: =N11/$C$4 -> 1.4180042
B12: Kaspersky Plus | C12: Lic for 1 Device | D12: 521.73 | E12: =ROUND($D12*$C$3,2) -> 3907.76 | F12: =ROUND(E12*(1-$F$5),2) -> 3126.21 | G12: =$F12/$C$4 -> 24.239823 | I12: =F12*(1-$H12)/10 -> 312.621 | J12: =G12*(1-$H12)/10 -> 2.4239823 | N12: =ROUND(I12*$M$3,2) -> 203.2 | O12: =N12/$C$4 -> 1.5755602
C13: Lic for 3 Devices | D13: 573.9 | E13: =ROUND($D13*$C$3,2) -> 4298.51 | F13: =ROUND(E13*(1-$F$5),2) -> 3438.81 | G13: =$F13/$C$4 -> 26.663643 | I13: =F13*(1-$H13)/10 -> 343.881 | J13: =G13*(1-$H13)/10 -> 2.6663643 | N13: =ROUND(I13*$M$3,2) -> 223.52 | O13: =N13/$C$4 -> 1.7331162
C14: Lic for 5 Devices | D14: 626.08 | E14: =ROUND($D14*$C$3,2) -> 4689.34 | F14: =ROUND(E14*(1-$F$5),2) -> 3751.47 | G14: =$F14/$C$4 -> 29.087927 | I14: =F14*(1-$H14)/10 -> 375.147 | J14: =G14*(1-$H14)/10 -> 2.9087927 | N14: =ROUND(I14*$M$3,2) -> 243.85 | O14: =N14/$C$4 -> 1.8907498
B15: Kaspersky Premium | C15: Lic for 1 Device | D15: 574.77 | E15: =ROUND($D15*$C$3,2) -> 4305.03 | F15: =ROUND(E15*(1-$F$5),2) -> 3444.02 | G15: =$F15/$C$4 -> 26.70404 | I15: =F15*(1-$H15)/10 -> 344.402 | J15: =G15*(1-$H15)/10 -> 2.670404 | N15: =ROUND(I15*$M$3,2) -> 223.86 | O15: =N15/$C$4 -> 1.7357525
C16: Lic for 3 Devices | D16: 625.21 | E16: =ROUND($D16*$C$3,2) -> 4682.82 | F16: =ROUND(E16*(1-$F$5),2) -> 3746.26 | G16: =$F16/$C$4 -> 29.04753 | I16: =F16*(1-$H16)/10 -> 374.626 | J16: =G16*(1-$H16)/10 -> 2.904753 | N16: =ROUND(I16*$M$3,2) -> 243.51 | O16: =N16/$C$4 -> 1.8881135
C17: Lic for 5 Devices | D17: 674.77 | E17: =ROUND($D17*$C$3,2) -> 5054.03 | F17: =ROUND(E17*(1-$F$5),2) -> 4043.22 | G17: =$F17/$C$4 -> 31.350081 | I17: =F17*(1-$H17)/10 -> 404.322 | J17: =G17*(1-$H17)/10 -> 3.1350081 | N17: =ROUND(I17*$M$3,2) -> 262.81 | O17: =N17/$C$4 -> 2.0377607
C18: Lic for 10 Devices | D18: 799.99 | E18: =ROUND($D18*$C$3,2) -> 5991.93 | F18: =ROUND(E18*(1-$F$5),2) -> 4793.54 | G18: =$F18/$C$4 -> 37.167868 | I18: =F18*(1-$H18)/10 -> 479.354 | J18: =G18*(1-$H18)/10 -> 3.7167868 | N18: =ROUND(I18*$M$3,2) -> 311.58 | O18: =N18/$C$4 -> 2.4159107

Sheet Hard Bundle Pricing Table 
A1: GWIJI & Kaspersky Hard Bundle
A2: Pricing Table
F3: Hard Bundle logic:
A4: Weighted Tarrif Price | D4: =SUMPRODUCT(F13:F16,H13:H16) -> 2749 | F4: - GWIJI recieves an exclusive average discount of 56% versus Kaspersky MSRP
A5: Suggested KL Product price (KES) | D5: =D4*D7 -> 192.43 | F5: - Kaspersky Premium 5 Devices and SafeKids is paired with the 30Mbps monthly tariff to incentivise users into highest monthly spend
A6: Suggested KL Product price (USD) | D6: =D5*$D$9 -> 1.500954
A7: KL to GWIJI Broadband Differential % Low Value | D7: 0.07
A8: KL to GWIJI Broadband Differential % High Value | D8: 0.075
A9: KES to USD | D9: 0.0078
A10: USD to KES | D10: 128.97
A12: Type of Broadband | B12: Data | C12: Bandwidth | D12: Validity | E12: LP on gwijinet.com | F12: Subscription Price (Ksh) | G12: Subscription Price (USD) | H12: Split by Tariff | I12: Kaspersky Product Added | J12: Kaspersky MSRP Subscription Price (Ksh) | K12: Kaspersky MSRP Subscription Price (USD) | L12: Kaspersky GWIJI Subscription Price (Ksh) | M12: Kaspersky GWIJI Subscription Price (USD) | N12: % Discount given to Gwiji | O12: Suggested Hard Bundle Subscription Price (Ksh) | P12: Suggested Hard Bundle Subscription Price (USD) | R12: BenOlives Share | S12: KL Share | T12: Prices Due to KL, VAT excluded, (Ksh) | U12: Prices Due to KL, VAT ecluded, (USD)
A13: Fibre | B13: Unlimited Data | C13: 8Mbps | D13: 30 Days | E13: LP | F13: 2099 | G13: =F13*'Hard Bundle Pricing Table '!$D$9 -> 16.3722 | H13: 0.4 | I13: Standard 3 Device | J13: =Pricing!I10 -> 250.094 | K13: =J13*$D$9 -> 1.9507332 | L13: 100 | M13: =L13*$D$9 -> 0.78 | N13: =(L13-J13)/J13 -> -0.60015034 | O13: =L13+F13 -> 2199 | P13: =O13*'Hard Bundle Pricing Table '!$D$9 -> 17.1522 | R13: 0.35 | S13: 0.65 | T13: =L13*$S$13 -> 65 | U13: =T13*$D$9 -> 0.507
A14: Fibre | B14: Unlimited Data | C14: 13Mbps | D14: 30 Days | E14: LP | F14: 2599 | G14: =F14*'Hard Bundle Pricing Table '!$D$9 -> 20.2722 | H14: 0.35 | I14: Plus 5 Device | J14: =Pricing!I14 -> 375.147 | K14: =J14*'Hard Bundle Pricing Table '!$D$9 -> 2.9261466 | L14: 150 | M14: =L14*$D$9 -> 1.17 | N14: =(L14-J14)/J14 -> -0.60015674 | O14: =L14+F14 -> 2749 | P14: =O14*'Hard Bundle Pricing Table '!$D$9 -> 21.4422 | T14: =L14*$S$13 -> 97.5 | U14: =T14*$D$9 -> 0.7605
A15: Fibre | B15: Unlimited Data | C15: 18Mbps | D15: 30 Days | E15: LP | F15: 3599 | G15: =F15*'Hard Bundle Pricing Table '!$D$9 -> 28.0722 | H15: 0.15 | I15: Plus 5 Device + SafeKids | J15: =Pricing!I14+Pricing!I7 -> 561.049 | K15: =J15*'Hard Bundle Pricing Table '!$D$9 -> 4.3761822 | L15: 250 | M15: =L15*$D$9 -> 1.95 | N15: =(L15-J15)/J15 -> -0.55440612 | O15: =L15+F15 -> 3849 | P15: =O15*'Hard Bundle Pricing Table '!$D$9 -> 30.0222 | T15: =L15*$S$13 -> 162.5 | U15: =T15*$D$9 -> 1.2675
A16: Fibre | B16: Unlimited Data | C16: 30Mbps | D16: 30 Days | E16: LP | F16: 4599 | G16: =F16*'Hard Bundle Pricing Table '!$D$9 -> 35.8722 | H16: 0.1 | I16: Premium 5 Device + SafeKids | J16: =Pricing!I17+Pricing!I7 -> 590.224 | K16: =J16*'Hard Bundle Pricing Table '!$D$9 -> 4.6037472 | L16: 300 | M16: =L16*$D$9 -> 2.34 | N16: =(L16-J16)/J16 -> -0.4917184 | O16: =L16+F16 -> 4899 | P16: =O16*'Hard Bundle Pricing Table '!$D$9 -> 38.2122 | T16: =L16*$S$13 -> 195 | U16: =T16*$D$9 -> 1.521

Sheet Soft Bundle Pricing Table
A1: GWIJI & Kaspersky Hard Bundle
A2: Pricing Table
F3: Soft Bundle logic:
A4: Weighted Tarrif Price | D4: =SUMPRODUCT(F13:F16,H13:H16) -> 2749 | F4: - GWIJI recieves an average discount of 20% versus Kaspersky MSRP
A5: Suggested KL Product price (KES) | D5: =D4*D7 -> 192.43 | F5: - Kaspersky Premium 5 Devices and SafeKids is paired with the 30Mbps monthly tariff to incentivise users into highest monthly spend
A6: Suggested KL Product price (USD) | D6: =D5*'Soft Bundle Pricing Table'!D9 -> 1.500954
A7: KL to GWIJI Broadband Differential % Low Value | D7: 0.07
A8: KL to GWIJI Broadband Differential % High Value | D8: 0.075
A9: KES to USD | D9: 0.0078
A10: USD to KES | D10: 128.97
A12: Type of Broadband | B12: Data | C12: Bandwidth | D12: Validity | E12: LP on gwijinet.com | F12: Subscription Price (Ksh) | G12: Subscription Price (USD) | H12: Split by Tariff | I12: Kaspersky Product Added | J12: Kaspersky MSRP Subscription Price (Ksh) | K12: Kaspersky MSRP Subscription Price (USD) | L12: Kaspersky GWIJI Subscription Price (Ksh) | M12: Kaspersky GWIJI Subscription Price (USD) | N12: % Discount given to Gwiji | P12: BenOlives Share | Q12: KL Share | R12: Prices Due to KL, VAT excluded, (Ksh) | S12: Prices Due to KL, VAT ecluded, (USD)
A13: Fibre | B13: Unlimited Data | C13: 8Mbps | D13: 30 Days | E13: LP | F13: 2099 | G13: =F13*'Soft Bundle Pricing Table'!$D$9 -> 16.3722 | H13: 0.4 | I13: Standard 3 Device | J13: =Pricing!I10 -> 250.094 | K13: =J13*$D$9 -> 1.9507332 | L13: 200 | M13: =L13*$D$9 -> 1.56 | N13: =(L13-J13)/J13 -> -0.20030069 | P13: 0.35 | Q13: 0.65 | R13: =L13*$Q$13 -> 130 | S13: =R13*$D$9 -> 1.014
A14: Fibre | B14: Unlimited Data | C14: 13Mbps | D14: 30 Days | E14: LP | F14: 2599 | G14: =F14*'Soft Bundle Pricing Table'!$D$9 -> 20.2722 | H14: 0.35 | I14: Plus 5 Device | J14: =Pricing!I14 -> 375.147 | K14: =J14*'Soft Bundle Pricing Table'!$D$9 -> 2.9261466 | L14: 300 | M14: =L14*$D$9 -> 2.34 | N14: =(L14-J14)/J14 -> -0.20031348 | R14: =L14*$Q$13 -> 195 | S14: =R14*$D$9 -> 1.521
A15: Fibre | B15: Unlimited Data | C15: 18Mbps | D15: 30 Days | E15: LP | F15: 3599 | G15: =F15*'Soft Bundle Pricing Table'!$D$9 -> 28.0722 | H15: 0.15 | I15: Plus 5 Device + SafeKids | J15: =Pricing!I14+Pricing!I7 -> 561.049 | K15: =J15*'Soft Bundle Pricing Table'!$D$9 -> 4.3761822 | L15: 450 | M15: =L15*$D$9 -> 3.51 | N15: =(L15-J15)/J15 -> -0.19793102 | R15: =L15*$Q$13 -> 292.5 | S15: =R15*$D$9 -> 2.2815
A16: Fibre | B16: Unlimited Data | C16: 30Mbps | D16: 30 Days | E16: LP | F16: 4599 | G16: =F16*'Soft Bundle Pricing Table'!$D$9 -> 35.8722 | H16: 0.1 | I16: Premium 5 Device + SafeKids | J16: =Pricing!I17+Pricing!I7 -> 590.224 | K16: =J16*'Soft Bundle Pricing Table'!$D$9 -> 4.6037472 | L16: 470 | M16: =L16*$D$9 -> 3.666 | N16: =(L16-J16)/J16 -> -0.20369216 | R16: =L16*$Q$13 -> 305.5 | S16: =R16*$D$9 -> 2.3829

Sheet Sheet1
A1: Type of Broadband | B1: Data | C1: Bandwidth | D1: Validity | E1: Subscription Price (Ksh) | F1: Kaspersky Product Added | G1: Kaspersky GWIJI Monthly Subscription Price (Ksh) | H1: Suggested Hard Bundle Subscription Price (Ksh)
A2: Fibre | B2: Unlimited Data | C2: 8Mbps | D2: 30 Days | E2: 2099 | F2: Standard 3 Device | G2: 200 | H2: =E2+G2 -> 2299
A3: Fibre | B3: Unlimited Data | C3: 13Mbps | D3: 30 Days | E3: 2599 | F3: Plus 5 Device | G3: 250 | H3: =E3+G3 -> 2849
A4: Fibre | B4: Unlimited Data | C4: 18Mbps | D4: 30 Days | E4: 3599 | F4: Plus 5 Device + SafeKids | G4: 350 | H4: =E4+G4 -> 3949
A5: Fibre | B5: Unlimited Data | C5: 30Mbps | D5: 30 Days | E5: 4599 | F5: Premium 5 Device + SafeKids | G5: 400 | H5: =E5+G5 -> 4999
